BEGIN:VCALENDAR
VERSION:2.0
PRODID:-//La Maison Concarneau - ECPv6.15.20//NONSGML v1.0//EN
CALSCALE:GREGORIAN
METHOD:PUBLISH
X-ORIGINAL-URL:https://lamaisonconcarneau.fr
X-WR-CALDESC:Évènements pour La Maison Concarneau
REFRESH-INTERVAL;VALUE=DURATION:PT1H
X-Robots-Tag:noindex
X-PUBLISHED-TTL:PT1H
BEGIN:VTIMEZONE
TZID:Europe/Zurich
BEGIN:DAYLIGHT
TZOFFSETFROM:+0100
TZOFFSETTO:+0200
TZNAME:CEST
DTSTART:20230326T010000
END:DAYLIGHT
BEGIN:STANDARD
TZOFFSETFROM:+0200
TZOFFSETTO:+0100
TZNAME:CET
DTSTART:20231029T010000
END:STANDARD
BEGIN:DAYLIGHT
TZOFFSETFROM:+0100
TZOFFSETTO:+0200
TZNAME:CEST
DTSTART:20240331T010000
END:DAYLIGHT
BEGIN:STANDARD
TZOFFSETFROM:+0200
TZOFFSETTO:+0100
TZNAME:CET
DTSTART:20241027T010000
END:STANDARD
BEGIN:DAYLIGHT
TZOFFSETFROM:+0100
TZOFFSETTO:+0200
TZNAME:CEST
DTSTART:20250330T010000
END:DAYLIGHT
BEGIN:STANDARD
TZOFFSETFROM:+0200
TZOFFSETTO:+0100
TZNAME:CET
DTSTART:20251026T010000
END:STANDARD
END:VTIMEZONE
BEGIN:VEVENT
DTSTART;TZID=Europe/Zurich:20240809T210000
DTEND;TZID=Europe/Zurich:20240809T223000
DTSTAMP:20260421T103953
CREATED:20240722T205130Z
LAST-MODIFIED:20240724T130511Z
UID:29731-1723237200-1723242600@lamaisonconcarneau.fr
SUMMARY:Concert Microwaved Coffee - 9 août 2024
DESCRIPTION:
URL:https://lamaisonconcarneau.fr/evenement/concert-microwaved-coffee-9-08-2024/
LOCATION:Barbichette\, Rte de Tremeou\, Trégunc\, 29910\, France
END:VEVENT
BEGIN:VEVENT
DTSTART;TZID=Europe/Zurich:20240816T190000
DTEND;TZID=Europe/Zurich:20240817T010000
DTSTAMP:20260421T103953
CREATED:20240722T204117Z
LAST-MODIFIED:20240722T204333Z
UID:29722-1723834800-1723856400@lamaisonconcarneau.fr
SUMMARY:Sortie de Résidence
DESCRIPTION:🎤🎧SORTIE DE RÉSIDENCE 🎧🎤 \nA l’occasion de la sortie de résidence de plusieurs rappeurs\, La Maison Label vous propose une soirée rap à l’honneur de leur travail coopératif d’une semaine ! \nAu programme :\n– de 19h à 21h : retrouvez Selecta Junior G\, DJ dub du haut de ses 9 ans ainsi que Ten to One DJ dub du Label de La Maison\n– de 21h à 23h30 : présentation du travail de ces 12 rappeurs après leur séminaire.\n– De 23h30 à 01h : DJ Veyle qui clôturera cette soirée avec de l’électro House. \nUn projet qui met en valeur le partage et le travail fournis de ces rappeurs qui se sont rencontrés sur internet ! \nOn vous attends donc le 16 août de 19h à 01h en Zone Libre à la Brasserie Tri Martolod !! \nPrix d’entrée : 5€\nFood truck sur place
URL:https://lamaisonconcarneau.fr/evenement/sortie-de-residence/
LOCATION:Brasseroe Tri Martlod\, ZA du Colguen\, Concarneau\, 29900\, France
ATTACH;FMTTYPE=image/png:https://lamaisonconcarneau.fr/wp-content/uploads/2024/07/affiche-soiree-rap-tri-1.png
END:VEVENT
BEGIN:VEVENT
DTSTART;TZID=Europe/Zurich:20240823T210000
DTEND;TZID=Europe/Zurich:20240823T230000
DTSTAMP:20260421T103953
CREATED:20240722T205314Z
LAST-MODIFIED:20240724T130548Z
UID:29735-1724446800-1724454000@lamaisonconcarneau.fr
SUMMARY:Concert Microwaved Coffee - 23 août 2024
DESCRIPTION:
URL:https://lamaisonconcarneau.fr/evenement/concert-microwaved-coffee-23-07-2024/
LOCATION:Le gentilhomme\, 29 Rue des Glénan\, Fouesnant\, 29170\, France
END:VEVENT
BEGIN:VEVENT
DTSTART;TZID=Europe/Zurich:20240830T180000
DTEND;TZID=Europe/Zurich:20240830T220000
DTSTAMP:20260421T103953
CREATED:20240722T205529Z
LAST-MODIFIED:20240722T205856Z
UID:29737-1725040800-1725055200@lamaisonconcarneau.fr
SUMMARY:Concert Microwaved Coffee - 30 août 2024
DESCRIPTION:
URL:https://lamaisonconcarneau.fr/evenement/concert-microwaved-coffee-30-08-2024/
LOCATION:Kerinou\, All. de Kerinou\, Brest\, 29200\, France
END:VEVENT
END:VCALENDAR