BEGIN:VCALENDAR
VERSION:2.0
PRODID:-//La Maison Concarneau - ECPv6.15.20//NONSGML v1.0//EN
CALSCALE:GREGORIAN
METHOD:PUBLISH
X-WR-CALNAME:La Maison Concarneau
X-ORIGINAL-URL:https://lamaisonconcarneau.fr
X-WR-CALDESC:Évènements pour La Maison Concarneau
REFRESH-INTERVAL;VALUE=DURATION:PT1H
X-Robots-Tag:noindex
X-PUBLISHED-TTL:PT1H
BEGIN:VTIMEZONE
TZID:Europe/Zurich
BEGIN:DAYLIGHT
TZOFFSETFROM:+0100
TZOFFSETTO:+0200
TZNAME:CEST
DTSTART:20230326T010000
END:DAYLIGHT
BEGIN:STANDARD
TZOFFSETFROM:+0200
TZOFFSETTO:+0100
TZNAME:CET
DTSTART:20231029T010000
END:STANDARD
BEGIN:DAYLIGHT
TZOFFSETFROM:+0100
TZOFFSETTO:+0200
TZNAME:CEST
DTSTART:20240331T010000
END:DAYLIGHT
BEGIN:STANDARD
TZOFFSETFROM:+0200
TZOFFSETTO:+0100
TZNAME:CET
DTSTART:20241027T010000
END:STANDARD
BEGIN:DAYLIGHT
TZOFFSETFROM:+0100
TZOFFSETTO:+0200
TZNAME:CEST
DTSTART:20250330T010000
END:DAYLIGHT
BEGIN:STANDARD
TZOFFSETFROM:+0200
TZOFFSETTO:+0100
TZNAME:CET
DTSTART:20251026T010000
END:STANDARD
END:VTIMEZONE
BEGIN:VEVENT
DTSTART;TZID=Europe/Zurich:20240726T210000
DTEND;TZID=Europe/Zurich:20240726T230000
DTSTAMP:20260421T120607
CREATED:20240722T204832Z
LAST-MODIFIED:20240724T130326Z
UID:29728-1722027600-1722034800@lamaisonconcarneau.fr
SUMMARY:Concert Microwaved Coffee - 26 juillet 2024
DESCRIPTION:
URL:https://lamaisonconcarneau.fr/evenement/concert-microwaved-coffee-26-07-2024/
LOCATION:Le gentilhomme\, 29 Rue des Glénan\, Fouesnant\, 29170\, France
END:VEVENT
END:VCALENDAR